BEGIN:VCALENDAR
VERSION:2.0
PRODID:-//Tausendfüßler Stiftung - ECPv6.10.2//NONSGML v1.0//EN
CALSCALE:GREGORIAN
METHOD:PUBLISH
X-WR-CALNAME:Tausendfüßler Stiftung
X-ORIGINAL-URL:https://tausendfuessler-stiftung.de
X-WR-CALDESC:Veranstaltungen für Tausendfüßler Stiftung
REFRESH-INTERVAL;VALUE=DURATION:PT1H
X-Robots-Tag:noindex
X-PUBLISHED-TTL:PT1H
BEGIN:VTIMEZONE
TZID:Europe/Paris
BEGIN:DAYLIGHT
TZOFFSETFROM:+0100
TZOFFSETTO:+0200
TZNAME:CEST
DTSTART:20240331T010000
END:DAYLIGHT
BEGIN:STANDARD
TZOFFSETFROM:+0200
TZOFFSETTO:+0100
TZNAME:CET
DTSTART:20241027T010000
END:STANDARD
END:VTIMEZONE
BEGIN:VEVENT
DTSTART;TZID=Europe/Paris:20241130T150000
DTEND;TZID=Europe/Paris:20241130T200000
DTSTAMP:20260421T175342
CREATED:20241025T074038Z
LAST-MODIFIED:20241025T083438Z
UID:39144-1732978800-1732996800@tausendfuessler-stiftung.de
SUMMARY:Weihnachtlicher Kunsthandwerkermarkt
DESCRIPTION:Weihnachtsmarkt in Kaltenkirchen\nIm Rahmen des Kaltenkirchener Weihnachtsmarktes vom 27.11. – 22.12.2024 öffnen wir am 29. & 30. November jeweils zwischen 15:00 und 20:00 Uhr das Mehrgenerationenhaus Am Markt für einen weihnachtlichen Kunsthandwerkermarkt. \nUnter anderem Ausstellerinnen und Aussteller\, die Sie in den vergangenen Jahren im Rathaus angetroffen haben\, präsentieren in diesem Jahr Ihre handgefertigten Unikate bei uns im Mehrgenerationenhaus. \n\nWir laden Sie ein\, zu schauen\, zu stöbern und vielleicht auch das ein oder andere Weihnachtsgeschenk für Ihre Liebsten oder für sich selbst zu kaufen.\nFreuen Sie sich auf Lampen aus Treibholz\, Weihnachtsbaumschmuck\, Taschen\, Mützen\, Schals\, Deko\, Porzellanpuppen\, Drahtfiguren uvm. Hier finden sich viele Schmuckstücke aus Naturmaterialien. \nErgänzt wird der Indoor-Markt um ein kleines kulinarisches Angebot von Kaffee\, frisch gebackenem Kuchen und frischen Waffeln. \nDer Eintritt ist frei. \nWir freuen uns auf Ihren Besuch!
URL:https://tausendfuessler-stiftung.de/veranstaltungen/weihnachtlicher-kunsthandwerkermarkt/2024-11-30/
LOCATION:Mehrgenerationenhaus Am Markt
ATTACH;FMTTYPE=image/jpeg:https://tausendfuessler-stiftung.de/wp-content/uploads/2024/10/Website_Header_1200x630-6.jpg
END:VEVENT
BEGIN:VEVENT
DTSTART;TZID=Europe/Paris:20241129T150000
DTEND;TZID=Europe/Paris:20241129T200000
DTSTAMP:20260421T175342
CREATED:20241025T074038Z
LAST-MODIFIED:20241025T083438Z
UID:39141-1732892400-1732910400@tausendfuessler-stiftung.de
SUMMARY:Weihnachtlicher Kunsthandwerkermarkt
DESCRIPTION:Weihnachtsmarkt in Kaltenkirchen\nIm Rahmen des Kaltenkirchener Weihnachtsmarktes vom 27.11. – 22.12.2024 öffnen wir am 29. & 30. November jeweils zwischen 15:00 und 20:00 Uhr das Mehrgenerationenhaus Am Markt für einen weihnachtlichen Kunsthandwerkermarkt. \nUnter anderem Ausstellerinnen und Aussteller\, die Sie in den vergangenen Jahren im Rathaus angetroffen haben\, präsentieren in diesem Jahr Ihre handgefertigten Unikate bei uns im Mehrgenerationenhaus. \n\nWir laden Sie ein\, zu schauen\, zu stöbern und vielleicht auch das ein oder andere Weihnachtsgeschenk für Ihre Liebsten oder für sich selbst zu kaufen.\nFreuen Sie sich auf Lampen aus Treibholz\, Weihnachtsbaumschmuck\, Taschen\, Mützen\, Schals\, Deko\, Porzellanpuppen\, Drahtfiguren uvm. Hier finden sich viele Schmuckstücke aus Naturmaterialien. \nErgänzt wird der Indoor-Markt um ein kleines kulinarisches Angebot von Kaffee\, frisch gebackenem Kuchen und frischen Waffeln. \nDer Eintritt ist frei. \nWir freuen uns auf Ihren Besuch!
URL:https://tausendfuessler-stiftung.de/veranstaltungen/weihnachtlicher-kunsthandwerkermarkt/2024-11-29/
LOCATION:Mehrgenerationenhaus Am Markt
ATTACH;FMTTYPE=image/jpeg:https://tausendfuessler-stiftung.de/wp-content/uploads/2024/10/Website_Header_1200x630-6.jpg
END:VEVENT
END:VCALENDAR