BEGIN:VCALENDAR
VERSION:2.0
PRODID:-//Tausendfüßler Stiftung - ECPv6.10.2//NONSGML v1.0//EN
CALSCALE:GREGORIAN
METHOD:PUBLISH
X-WR-CALNAME:Tausendfüßler Stiftung
X-ORIGINAL-URL:https://tausendfuessler-stiftung.de
X-WR-CALDESC:Veranstaltungen für Tausendfüßler Stiftung
REFRESH-INTERVAL;VALUE=DURATION:PT1H
X-Robots-Tag:noindex
X-PUBLISHED-TTL:PT1H
BEGIN:VTIMEZONE
TZID:Europe/Paris
BEGIN:DAYLIGHT
TZOFFSETFROM:+0100
TZOFFSETTO:+0200
TZNAME:CEST
DTSTART:20230326T010000
END:DAYLIGHT
BEGIN:STANDARD
TZOFFSETFROM:+0200
TZOFFSETTO:+0100
TZNAME:CET
DTSTART:20231029T010000
END:STANDARD
BEGIN:DAYLIGHT
TZOFFSETFROM:+0100
TZOFFSETTO:+0200
TZNAME:CEST
DTSTART:20240331T010000
END:DAYLIGHT
BEGIN:STANDARD
TZOFFSETFROM:+0200
TZOFFSETTO:+0100
TZNAME:CET
DTSTART:20241027T010000
END:STANDARD
END:VTIMEZONE
BEGIN:VEVENT
DTSTART;TZID=Europe/Paris:20240531T150000
DTEND;TZID=Europe/Paris:20240531T170000
DTSTAMP:20260421T130803
CREATED:20221123T210106Z
LAST-MODIFIED:20221123T210106Z
UID:41201-1717167600-1717174800@tausendfuessler-stiftung.de
SUMMARY:Unsere Geschwistergruppe
DESCRIPTION:Unsere Spielgruppe für Geschwisterkinder im Alter von 0-5 Jahren\nGemeinsam die Welt entdecken\nIn unserer Geschwistergruppe können Familien mit Geschwisterkindern im Alter von 0-5 Jahren einen schönen Nachmittag mit anderen Familien erleben.\nDas bedeutet Spaß haben\, Körpergefühl entwickeln\, gemeinsam spielen\, singen\, hüpfen\, basteln und Kontakte knüpfen. \nUnsere Kursleitung begleitet und gestaltet dabei den Ablauf am Freitagnachmittag. Eine gemeinsame Begrüßung und eine Verabschiedung runden die Treffen ab. \nWährend der Spielzeit entdecken die Kinder vielfältige Spielmaterialien und natürlich neue Spielpartner. \nDie Eltern oder auch Großeltern erleben die gemeinsame Spielzeit mit den Geschwisterkindern entspannt in unseren großzügigen Räumlichkeiten und lernen dabei nette Familien kennen. \nEine Anmeldung ist erforderlich.
URL:https://tausendfuessler-stiftung.de/veranstaltungen/unsere-familiengruppe-mit-geschwistern/2024-05-31/
LOCATION:Familienzentrum im Mehrgenerationenhaus
ATTACH;FMTTYPE=image/jpeg:https://tausendfuessler-stiftung.de/wp-content/uploads/2015/02/Fotolia_85482735_Subscription_Monthly_M-e1586178760339-1.jpg
END:VEVENT
BEGIN:VEVENT
DTSTART;TZID=Europe/Paris:20240524T150000
DTEND;TZID=Europe/Paris:20240524T170000
DTSTAMP:20260421T130803
CREATED:20221123T210106Z
LAST-MODIFIED:20221123T210106Z
UID:41200-1716562800-1716570000@tausendfuessler-stiftung.de
SUMMARY:Unsere Geschwistergruppe
DESCRIPTION:Unsere Spielgruppe für Geschwisterkinder im Alter von 0-5 Jahren\nGemeinsam die Welt entdecken\nIn unserer Geschwistergruppe können Familien mit Geschwisterkindern im Alter von 0-5 Jahren einen schönen Nachmittag mit anderen Familien erleben.\nDas bedeutet Spaß haben\, Körpergefühl entwickeln\, gemeinsam spielen\, singen\, hüpfen\, basteln und Kontakte knüpfen. \nUnsere Kursleitung begleitet und gestaltet dabei den Ablauf am Freitagnachmittag. Eine gemeinsame Begrüßung und eine Verabschiedung runden die Treffen ab. \nWährend der Spielzeit entdecken die Kinder vielfältige Spielmaterialien und natürlich neue Spielpartner. \nDie Eltern oder auch Großeltern erleben die gemeinsame Spielzeit mit den Geschwisterkindern entspannt in unseren großzügigen Räumlichkeiten und lernen dabei nette Familien kennen. \nEine Anmeldung ist erforderlich.
URL:https://tausendfuessler-stiftung.de/veranstaltungen/unsere-familiengruppe-mit-geschwistern/2024-05-24/
LOCATION:Familienzentrum im Mehrgenerationenhaus
ATTACH;FMTTYPE=image/jpeg:https://tausendfuessler-stiftung.de/wp-content/uploads/2015/02/Fotolia_85482735_Subscription_Monthly_M-e1586178760339-1.jpg
END:VEVENT
BEGIN:VEVENT
DTSTART;TZID=Europe/Paris:20240517T150000
DTEND;TZID=Europe/Paris:20240517T170000
DTSTAMP:20260421T130803
CREATED:20221123T210106Z
LAST-MODIFIED:20221123T210106Z
UID:41199-1715958000-1715965200@tausendfuessler-stiftung.de
SUMMARY:Unsere Geschwistergruppe
DESCRIPTION:Unsere Spielgruppe für Geschwisterkinder im Alter von 0-5 Jahren\nGemeinsam die Welt entdecken\nIn unserer Geschwistergruppe können Familien mit Geschwisterkindern im Alter von 0-5 Jahren einen schönen Nachmittag mit anderen Familien erleben.\nDas bedeutet Spaß haben\, Körpergefühl entwickeln\, gemeinsam spielen\, singen\, hüpfen\, basteln und Kontakte knüpfen. \nUnsere Kursleitung begleitet und gestaltet dabei den Ablauf am Freitagnachmittag. Eine gemeinsame Begrüßung und eine Verabschiedung runden die Treffen ab. \nWährend der Spielzeit entdecken die Kinder vielfältige Spielmaterialien und natürlich neue Spielpartner. \nDie Eltern oder auch Großeltern erleben die gemeinsame Spielzeit mit den Geschwisterkindern entspannt in unseren großzügigen Räumlichkeiten und lernen dabei nette Familien kennen. \nEine Anmeldung ist erforderlich.
URL:https://tausendfuessler-stiftung.de/veranstaltungen/unsere-familiengruppe-mit-geschwistern/2024-05-17/
LOCATION:Familienzentrum im Mehrgenerationenhaus
ATTACH;FMTTYPE=image/jpeg:https://tausendfuessler-stiftung.de/wp-content/uploads/2015/02/Fotolia_85482735_Subscription_Monthly_M-e1586178760339-1.jpg
END:VEVENT
BEGIN:VEVENT
DTSTART;TZID=Europe/Paris:20240510T150000
DTEND;TZID=Europe/Paris:20240510T170000
DTSTAMP:20260421T130803
CREATED:20221123T210106Z
LAST-MODIFIED:20221123T210106Z
UID:41198-1715353200-1715360400@tausendfuessler-stiftung.de
SUMMARY:Unsere Geschwistergruppe
DESCRIPTION:Unsere Spielgruppe für Geschwisterkinder im Alter von 0-5 Jahren\nGemeinsam die Welt entdecken\nIn unserer Geschwistergruppe können Familien mit Geschwisterkindern im Alter von 0-5 Jahren einen schönen Nachmittag mit anderen Familien erleben.\nDas bedeutet Spaß haben\, Körpergefühl entwickeln\, gemeinsam spielen\, singen\, hüpfen\, basteln und Kontakte knüpfen. \nUnsere Kursleitung begleitet und gestaltet dabei den Ablauf am Freitagnachmittag. Eine gemeinsame Begrüßung und eine Verabschiedung runden die Treffen ab. \nWährend der Spielzeit entdecken die Kinder vielfältige Spielmaterialien und natürlich neue Spielpartner. \nDie Eltern oder auch Großeltern erleben die gemeinsame Spielzeit mit den Geschwisterkindern entspannt in unseren großzügigen Räumlichkeiten und lernen dabei nette Familien kennen. \nEine Anmeldung ist erforderlich.
URL:https://tausendfuessler-stiftung.de/veranstaltungen/unsere-familiengruppe-mit-geschwistern/2024-05-10/
LOCATION:Familienzentrum im Mehrgenerationenhaus
ATTACH;FMTTYPE=image/jpeg:https://tausendfuessler-stiftung.de/wp-content/uploads/2015/02/Fotolia_85482735_Subscription_Monthly_M-e1586178760339-1.jpg
END:VEVENT
BEGIN:VEVENT
DTSTART;TZID=Europe/Paris:20240503T150000
DTEND;TZID=Europe/Paris:20240503T170000
DTSTAMP:20260421T130803
CREATED:20221123T210106Z
LAST-MODIFIED:20221123T210106Z
UID:41197-1714748400-1714755600@tausendfuessler-stiftung.de
SUMMARY:Unsere Geschwistergruppe
DESCRIPTION:Unsere Spielgruppe für Geschwisterkinder im Alter von 0-5 Jahren\nGemeinsam die Welt entdecken\nIn unserer Geschwistergruppe können Familien mit Geschwisterkindern im Alter von 0-5 Jahren einen schönen Nachmittag mit anderen Familien erleben.\nDas bedeutet Spaß haben\, Körpergefühl entwickeln\, gemeinsam spielen\, singen\, hüpfen\, basteln und Kontakte knüpfen. \nUnsere Kursleitung begleitet und gestaltet dabei den Ablauf am Freitagnachmittag. Eine gemeinsame Begrüßung und eine Verabschiedung runden die Treffen ab. \nWährend der Spielzeit entdecken die Kinder vielfältige Spielmaterialien und natürlich neue Spielpartner. \nDie Eltern oder auch Großeltern erleben die gemeinsame Spielzeit mit den Geschwisterkindern entspannt in unseren großzügigen Räumlichkeiten und lernen dabei nette Familien kennen. \nEine Anmeldung ist erforderlich.
URL:https://tausendfuessler-stiftung.de/veranstaltungen/unsere-familiengruppe-mit-geschwistern/2024-05-03/
LOCATION:Familienzentrum im Mehrgenerationenhaus
ATTACH;FMTTYPE=image/jpeg:https://tausendfuessler-stiftung.de/wp-content/uploads/2015/02/Fotolia_85482735_Subscription_Monthly_M-e1586178760339-1.jpg
END:VEVENT
BEGIN:VEVENT
DTSTART;TZID=Europe/Paris:20240426T150000
DTEND;TZID=Europe/Paris:20240426T170000
DTSTAMP:20260421T130803
CREATED:20221123T210106Z
LAST-MODIFIED:20221123T210106Z
UID:41196-1714143600-1714150800@tausendfuessler-stiftung.de
SUMMARY:Unsere Geschwistergruppe
DESCRIPTION:Unsere Spielgruppe für Geschwisterkinder im Alter von 0-5 Jahren\nGemeinsam die Welt entdecken\nIn unserer Geschwistergruppe können Familien mit Geschwisterkindern im Alter von 0-5 Jahren einen schönen Nachmittag mit anderen Familien erleben.\nDas bedeutet Spaß haben\, Körpergefühl entwickeln\, gemeinsam spielen\, singen\, hüpfen\, basteln und Kontakte knüpfen. \nUnsere Kursleitung begleitet und gestaltet dabei den Ablauf am Freitagnachmittag. Eine gemeinsame Begrüßung und eine Verabschiedung runden die Treffen ab. \nWährend der Spielzeit entdecken die Kinder vielfältige Spielmaterialien und natürlich neue Spielpartner. \nDie Eltern oder auch Großeltern erleben die gemeinsame Spielzeit mit den Geschwisterkindern entspannt in unseren großzügigen Räumlichkeiten und lernen dabei nette Familien kennen. \nEine Anmeldung ist erforderlich.
URL:https://tausendfuessler-stiftung.de/veranstaltungen/unsere-familiengruppe-mit-geschwistern/2024-04-26/
LOCATION:Familienzentrum im Mehrgenerationenhaus
ATTACH;FMTTYPE=image/jpeg:https://tausendfuessler-stiftung.de/wp-content/uploads/2015/02/Fotolia_85482735_Subscription_Monthly_M-e1586178760339-1.jpg
END:VEVENT
BEGIN:VEVENT
DTSTART;TZID=Europe/Paris:20231106T150000
DTEND;TZID=Europe/Paris:20231106T170000
DTSTAMP:20260421T130803
CREATED:20221123T210106Z
LAST-MODIFIED:20250429T094520Z
UID:22441-1699282800-1699290000@tausendfuessler-stiftung.de
SUMMARY:Unsere Geschwistergruppe
DESCRIPTION:Unsere Spielgruppe für Geschwisterkinder im Alter von 0-5 Jahren\nGemeinsam die Welt entdecken\nIn unserer Geschwistergruppe können Familien mit Geschwisterkindern im Alter von 0-5 Jahren einen schönen Nachmittag mit anderen Familien erleben.\nDas bedeutet Spaß haben\, Körpergefühl entwickeln\, gemeinsam spielen\, singen\, hüpfen\, basteln und Kontakte knüpfen. \nUnsere Kursleitung begleitet und gestaltet dabei den Ablauf am Freitagnachmittag. Eine gemeinsame Begrüßung und eine Verabschiedung runden die Treffen ab. \nWährend der Spielzeit entdecken die Kinder vielfältige Spielmaterialien und natürlich neue Spielpartner. \nDie Eltern oder auch Großeltern erleben die gemeinsame Spielzeit mit den Geschwisterkindern entspannt in unseren großzügigen Räumlichkeiten und lernen dabei nette Familien kennen. \nEine Anmeldung ist erforderlich.
URL:https://tausendfuessler-stiftung.de/veranstaltungen/unsere-familiengruppe-mit-geschwistern/2023-11-06/
LOCATION:Familienzentrum im Mehrgenerationenhaus
ATTACH;FMTTYPE=image/jpeg:https://tausendfuessler-stiftung.de/wp-content/uploads/2015/02/Fotolia_85482735_Subscription_Monthly_M-e1586178760339-1.jpg
END:VEVENT
END:VCALENDAR