BEGIN:VCALENDAR
VERSION:2.0
PRODID:-//Tausendfüßler Stiftung - ECPv6.10.2//NONSGML v1.0//EN
CALSCALE:GREGORIAN
METHOD:PUBLISH
X-WR-CALNAME:Tausendfüßler Stiftung
X-ORIGINAL-URL:https://tausendfuessler-stiftung.de
X-WR-CALDESC:Veranstaltungen für Tausendfüßler Stiftung
REFRESH-INTERVAL;VALUE=DURATION:PT1H
X-Robots-Tag:noindex
X-PUBLISHED-TTL:PT1H
BEGIN:VTIMEZONE
TZID:Europe/Paris
BEGIN:DAYLIGHT
TZOFFSETFROM:+0100
TZOFFSETTO:+0200
TZNAME:CEST
DTSTART:20260329T010000
END:DAYLIGHT
BEGIN:STANDARD
TZOFFSETFROM:+0200
TZOFFSETTO:+0100
TZNAME:CET
DTSTART:20261025T010000
END:STANDARD
END:VTIMEZONE
BEGIN:VEVENT
DTSTART;TZID=Europe/Paris:20260511T143000
DTEND;TZID=Europe/Paris:20260511T170000
DTSTAMP:20260423T101324
CREATED:20230601T093138Z
LAST-MODIFIED:20230601T093138Z
UID:37478-1778509800-1778518800@tausendfuessler-stiftung.de
SUMMARY:Wohnzimmer-Café
DESCRIPTION:Das Wohnzimmer-Café im Mehrgenerationenhaus für Alle!\nIn unserem Wohnzimmer-Café sind Groß & Klein\, Alt & Jung herzlich willkommen! \nEgal ob Sie warten\, bis Ihr Kind mit dem Tanzen fertig ist\, Sie sich auf eine Spielepartie oder zum Klönen verabredet haben oder Sie sich mit einem Buch auf unsere Couch setzen wollen: Wir freuen uns auf Sie! \nJeden Montag und Donnerstag von jeweils 14:30 – 17:00 Uhr können Sie im Café frischgebackenen Kuchen (dienstags) oder frischgebackene Waffeln (donnerstags) mit einer Tasse Tee oder Kaffee genießen und neue Kontakte knüpfen oder sich mit Ihren Bekannten austasuchen. \nDarüber hinaus steht die Tür des Wohnzimmer-Cafés von Montag bis Freitag zwischen 09:00 und 17:00 Uhr für Sie offen.\nEntdecken Sie unsere Gesellschaftsspiele oder unsere Bücher- und Zeitschriftenauswahl. Außerdem können Sie sich ein „Secondhand-Buch“ im Sinne der Nachhaltigkeit sehr günstig erwerben. \nKommen Sie doch einfach einmal vorbei – wir freuen uns auf Sie!
URL:https://tausendfuessler-stiftung.de/veranstaltungen/wohnzimmer-cafe/2026-05-11/
LOCATION:Mehrgenerationenhaus Am Markt
END:VEVENT
BEGIN:VEVENT
DTSTART;TZID=Europe/Paris:20260512T180000
DTEND;TZID=Europe/Paris:20260512T200000
DTSTAMP:20260423T101324
CREATED:20230531T080828Z
LAST-MODIFIED:20230531T080828Z
UID:37497-1778608800-1778616000@tausendfuessler-stiftung.de
SUMMARY:Diagnose Krebs – Eine Mut-Mach-Gruppe für Frauen
DESCRIPTION:Diagnose Krebs\nSie haben kürzlich die Diagnose Krebs erhalten\, leben schon länger damit oder sind genesen?\nJeder geht anders mit einer solchen Diagnose um. Es gibt keine richtige oder falsche Krankheitsbewältigung. Wir möchten Ihnen jedoch dabei helfen\, die seelische Belastung zu verringern und Ihnen das Gefühl geben\, nicht allein zu sein. \nWie kann es weitergehen? \nUnsere Mut-Mach-Gruppe für Frauen als offener Gesprächskreis bietet \n\nGegenseitige emotionale Unterstützung\nAustausch und Information\nPraktische Lebenshilfe\nProfessionelle\, fachliche Unterstützung\nRaum\, um auch mal unter sich zu sein\n\n  \nSie sind herzlich eingeladen!
URL:https://tausendfuessler-stiftung.de/veranstaltungen/diagnose-krebs-eine-mut-mach-gruppe/2026-05-12/
LOCATION:Mehrgenerationenhaus Am Markt
ATTACH;FMTTYPE=image/jpeg:https://tausendfuessler-stiftung.de/wp-content/uploads/2015/02/Fotolia_168769358_Subscription_Monthly_M-1.jpg
END:VEVENT
BEGIN:VEVENT
DTSTART;TZID=Europe/Paris:20260514T140000
DTEND;TZID=Europe/Paris:20260514T163000
DTSTAMP:20260423T101324
CREATED:20230601T113832Z
LAST-MODIFIED:20230601T113832Z
UID:37752-1778767200-1778776200@tausendfuessler-stiftung.de
SUMMARY:Skat\, Wizard\, Rommé\, Canasta…
DESCRIPTION:Gesellschaftsspiele im Wohnzimmer-Café\nSie spielen gerne Mensch ärgere dich nicht oder Malefiz\, Rommé\, Canasta oder doch lieber Skat?\nAuch Kniffel-Freunde sind gefragt. \nIm Wohnzimmer-Café im Mehrgenerationenhaus trifft die Freude am Spielen auf viele nette und neue Spielpartner:innen. \nWir freuen uns auf eine bunter\, lustige Runde! \nEine Anmeldung ist erforderlich\, da wir die Spieltische vorbereiten.
URL:https://tausendfuessler-stiftung.de/veranstaltungen/skat-wizard-romme-canasta/2026-05-14/
LOCATION:Mehrgenerationenhaus Am Markt
ATTACH;FMTTYPE=image/jpeg:https://tausendfuessler-stiftung.de/wp-content/uploads/2015/05/Fotolia_49218900_Subscription_Monthly_M-1.jpg
END:VEVENT
BEGIN:VEVENT
DTSTART;TZID=Europe/Paris:20260514T143000
DTEND;TZID=Europe/Paris:20260514T170000
DTSTAMP:20260423T101324
CREATED:20230601T093138Z
LAST-MODIFIED:20230601T093138Z
UID:37755-1778769000-1778778000@tausendfuessler-stiftung.de
SUMMARY:Wohnzimmer-Café
DESCRIPTION:Das Wohnzimmer-Café im Mehrgenerationenhaus für Alle!\nIn unserem Wohnzimmer-Café sind Groß & Klein\, Alt & Jung herzlich willkommen! \nEgal ob Sie warten\, bis Ihr Kind mit dem Tanzen fertig ist\, Sie sich auf eine Spielepartie oder zum Klönen verabredet haben oder Sie sich mit einem Buch auf unsere Couch setzen wollen: Wir freuen uns auf Sie! \nJeden Montag und Donnerstag von jeweils 14:30 – 17:00 Uhr können Sie im Café frischgebackenen Kuchen (dienstags) oder frischgebackene Waffeln (donnerstags) mit einer Tasse Tee oder Kaffee genießen und neue Kontakte knüpfen oder sich mit Ihren Bekannten austasuchen. \nDarüber hinaus steht die Tür des Wohnzimmer-Cafés von Montag bis Freitag zwischen 09:00 und 17:00 Uhr für Sie offen.\nEntdecken Sie unsere Gesellschaftsspiele oder unsere Bücher- und Zeitschriftenauswahl. Außerdem können Sie sich ein „Secondhand-Buch“ im Sinne der Nachhaltigkeit sehr günstig erwerben. \nKommen Sie doch einfach einmal vorbei – wir freuen uns auf Sie!
URL:https://tausendfuessler-stiftung.de/veranstaltungen/wohnzimmer-cafe/2026-05-14/
LOCATION:Mehrgenerationenhaus Am Markt
END:VEVENT
END:VCALENDAR