BEGIN:VCALENDAR
VERSION:2.0
PRODID:-//Tausendfüßler Stiftung - ECPv6.10.2//NONSGML v1.0//EN
CALSCALE:GREGORIAN
METHOD:PUBLISH
X-ORIGINAL-URL:https://tausendfuessler-stiftung.de
X-WR-CALDESC:Veranstaltungen für Tausendfüßler Stiftung
REFRESH-INTERVAL;VALUE=DURATION:PT1H
X-Robots-Tag:noindex
X-PUBLISHED-TTL:PT1H
BEGIN:VTIMEZONE
TZID:Europe/Paris
BEGIN:DAYLIGHT
TZOFFSETFROM:+0100
TZOFFSETTO:+0200
TZNAME:CEST
DTSTART:20250330T010000
END:DAYLIGHT
BEGIN:STANDARD
TZOFFSETFROM:+0200
TZOFFSETTO:+0100
TZNAME:CET
DTSTART:20251026T010000
END:STANDARD
END:VTIMEZONE
BEGIN:VEVENT
DTSTART;TZID=Europe/Paris:20251128T190000
DTEND;TZID=Europe/Paris:20251128T220000
DTSTAMP:20260421T030140
CREATED:20251117T093251Z
LAST-MODIFIED:20251117T093251Z
UID:44367-1764356400-1764367200@tausendfuessler-stiftung.de
SUMMARY:Jugend Rock(t) Konzert
DESCRIPTION:Am Freitag\, 28. November 2025\, wird das Jugendhaus Kaltenkirchen erneut zum Treffpunkt für alle Livemusik-Fans! \nDetails zum Event: \n\nOrt: Jugendhaus\, Marschweg 14\, Kaltenkirchen\nEinlass: 19:00 Uhr\nBeginn: 19:30 Uhr\nEintritt: 2\,-€ oder gegen Spende\nVerpflegung: Alkoholfreie Getränke und Snacks vor Ort für jeweils 1\,-€\n\n\nLive on Stage: \n\nDead Shepherd\nsalted\nRocket Launcher\nBad Age\n\n\nWichtiger Hinweis:\nEs gibt keinen Vorverkauf. Der Zutritt ist nur möglich\, solange die maximale Besucher*innenzahl des Jugendhauses nicht überschritten wird – also kommt rechtzeitig! \nKommt vorbei\, bringt eure Freund*innen mit und erlebt einen unvergesslichen Abend voller Musik und guter Stimmung!
URL:https://tausendfuessler-stiftung.de/veranstaltungen/jugend-rockt-konzert/
LOCATION:Jugendhaus Kaltenkirchen\, Marschweg 14\, Kaltenkirchen\, 24568\, Germany
ATTACH;FMTTYPE=image/jpeg:https://tausendfuessler-stiftung.de/wp-content/uploads/2025/11/Website_Header_1200x630.jpg
END:VEVENT
END:VCALENDAR