BEGIN:VCALENDAR
VERSION:2.0
PRODID:-//Tausendfüßler Stiftung - ECPv6.10.2//NONSGML v1.0//EN
CALSCALE:GREGORIAN
METHOD:PUBLISH
X-WR-CALNAME:Tausendfüßler Stiftung
X-ORIGINAL-URL:https://tausendfuessler-stiftung.de
X-WR-CALDESC:Veranstaltungen für Tausendfüßler Stiftung
REFRESH-INTERVAL;VALUE=DURATION:PT1H
X-Robots-Tag:noindex
X-PUBLISHED-TTL:PT1H
BEGIN:VTIMEZONE
TZID:Europe/Paris
BEGIN:DAYLIGHT
TZOFFSETFROM:+0100
TZOFFSETTO:+0200
TZNAME:CEST
DTSTART:20250330T010000
END:DAYLIGHT
BEGIN:STANDARD
TZOFFSETFROM:+0200
TZOFFSETTO:+0100
TZNAME:CET
DTSTART:20251026T010000
END:STANDARD
END:VTIMEZONE
BEGIN:VEVENT
DTSTART;TZID=Europe/Paris:20250627T190000
DTEND;TZID=Europe/Paris:20250627T220000
DTSTAMP:20260421T214240
CREATED:20250602T080653Z
LAST-MODIFIED:20250626T091210Z
UID:41736-1751050800-1751061600@tausendfuessler-stiftung.de
SUMMARY:Jugend Rock(t) Konzert
DESCRIPTION:Das Jugendhaus präsentiert in Kooperation mit der Stadt Kaltenkirchen das Jugend Rock(t) Konzert. \nJugendhaus Kaltenkirchen – Marschweg 14\nEinlass: 19:00 Uhr\nBeginn: 19:30 Uhr\nEnde: 22:00 Uhr\nEintritt ab 14 Jahre: € 3\,- \nDiesmal für euch am Start: SEMPF und FIVE 2 FACE
URL:https://tausendfuessler-stiftung.de/veranstaltungen/jugend-rockt-open-air/
LOCATION:Jugendhaus Kaltenkirchen\, Marschweg 14\, Kaltenkirchen\, 24568\, Germany
ATTACH;FMTTYPE=image/jpeg:https://tausendfuessler-stiftung.de/wp-content/uploads/2025/06/GMB.jpg
END:VEVENT
END:VCALENDAR