BEGIN:VCALENDAR
VERSION:2.0
PRODID:-//Tausendfüßler Stiftung - ECPv6.10.2//NONSGML v1.0//EN
CALSCALE:GREGORIAN
METHOD:PUBLISH
X-WR-CALNAME:Tausendfüßler Stiftung
X-ORIGINAL-URL:https://tausendfuessler-stiftung.de
X-WR-CALDESC:Veranstaltungen für Tausendfüßler Stiftung
REFRESH-INTERVAL;VALUE=DURATION:PT1H
X-Robots-Tag:noindex
X-PUBLISHED-TTL:PT1H
BEGIN:VTIMEZONE
TZID:Europe/Paris
BEGIN:DAYLIGHT
TZOFFSETFROM:+0100
TZOFFSETTO:+0200
TZNAME:CEST
DTSTART:20260329T010000
END:DAYLIGHT
BEGIN:STANDARD
TZOFFSETFROM:+0200
TZOFFSETTO:+0100
TZNAME:CET
DTSTART:20261025T010000
END:STANDARD
END:VTIMEZONE
BEGIN:VEVENT
DTSTART;TZID=Europe/Paris:20260416T110000
DTEND;TZID=Europe/Paris:20260416T120000
DTSTAMP:20260421T172810
CREATED:20260303T093545Z
LAST-MODIFIED:20260303T093545Z
UID:46454-1776337200-1776340800@tausendfuessler-stiftung.de
SUMMARY:Eltern- & Babytreff
DESCRIPTION:Alles rund ums erste Lebenjahr\nUnser Eltern- & Babytreff bietet Müttern und Vätern einen geschützten Raum\, um sich auszutauschen\, Unterstützung zu erhalten und Sicherheit im Alltag mit ihrem Baby zu gewinnen. Der Fokus liegt auf der sensiblen Zeit nach der Geburt – einer Phase voller neuer Eindrücke\, Fragen und Herausforderungen. \n\nWorum geht es im Eltern- & Babytreff?\nDer wöchentliche Austausch unterstützt Eltern dabei\, ihr Baby in seinem ersten Lebensjahr liebevoll zu begleiten. Im Mittelpunkt stehen: \n\nEin geschützter Rahmen für Austausch\, Beratung und Orientierung\nUnterstützung in einer sensiblen Lebensphase nach der Geburt\nFachliche Begleitung durch eine erfahrene Expertin der Frühen Hilfen\nTagesstruktur mit Baby: Routinen finden und den Familienalltag erleichtern\nErnährung\, Pflege & Entwicklung: Antworten auf die häufigsten Elternfragen\nGesundheitsaufklärung & Prävention: frühzeitig Sicherheit gewinnen\nEltern-Kind-Bindung stärken: Nähe schaffen und Vertrauen aufbauen\nAustausch zu Herausforderungen im ersten Lebensjahr: Von Schlaf über Stillen bis zu Meilensteinen\n\nDieses Angebot richtet sich an Eltern\, die sich einen Ort wünschen\, an dem sie fachlich begleitet\, verständnisvoll unterstützt und gemeinschaftlich gestärkt werden. \n\nSandra Moroz\, Familien-\, Gesundheits- und Kinderkrankenpflegerin\, Still- und Laktationsexpertin sowie unsere Fachkraft der Frühen Hilfen leitet das Treffen und beantwortet Ihre Fragen. \nSie sind herzlich eingeladen! Wir freuen uns auf Sie und Ihr Baby! \nDas Angebot wird gefördert durch den Kreis Segeberg.
URL:https://tausendfuessler-stiftung.de/veranstaltungen/eltern-babytreff/2026-04-16/
LOCATION:Familienzentrum im Mehrgenerationenhaus
ATTACH;FMTTYPE=image/jpeg:https://tausendfuessler-stiftung.de/wp-content/uploads/2023/05/Website_Header_1200x630-4.jpg
END:VEVENT
BEGIN:VEVENT
DTSTART;TZID=Europe/Paris:20260409T110000
DTEND;TZID=Europe/Paris:20260409T120000
DTSTAMP:20260421T172810
CREATED:20260303T093545Z
LAST-MODIFIED:20260303T093545Z
UID:46453-1775732400-1775736000@tausendfuessler-stiftung.de
SUMMARY:Eltern- & Babytreff
DESCRIPTION:Alles rund ums erste Lebenjahr\nUnser Eltern- & Babytreff bietet Müttern und Vätern einen geschützten Raum\, um sich auszutauschen\, Unterstützung zu erhalten und Sicherheit im Alltag mit ihrem Baby zu gewinnen. Der Fokus liegt auf der sensiblen Zeit nach der Geburt – einer Phase voller neuer Eindrücke\, Fragen und Herausforderungen. \n\nWorum geht es im Eltern- & Babytreff?\nDer wöchentliche Austausch unterstützt Eltern dabei\, ihr Baby in seinem ersten Lebensjahr liebevoll zu begleiten. Im Mittelpunkt stehen: \n\nEin geschützter Rahmen für Austausch\, Beratung und Orientierung\nUnterstützung in einer sensiblen Lebensphase nach der Geburt\nFachliche Begleitung durch eine erfahrene Expertin der Frühen Hilfen\nTagesstruktur mit Baby: Routinen finden und den Familienalltag erleichtern\nErnährung\, Pflege & Entwicklung: Antworten auf die häufigsten Elternfragen\nGesundheitsaufklärung & Prävention: frühzeitig Sicherheit gewinnen\nEltern-Kind-Bindung stärken: Nähe schaffen und Vertrauen aufbauen\nAustausch zu Herausforderungen im ersten Lebensjahr: Von Schlaf über Stillen bis zu Meilensteinen\n\nDieses Angebot richtet sich an Eltern\, die sich einen Ort wünschen\, an dem sie fachlich begleitet\, verständnisvoll unterstützt und gemeinschaftlich gestärkt werden. \n\nSandra Moroz\, Familien-\, Gesundheits- und Kinderkrankenpflegerin\, Still- und Laktationsexpertin sowie unsere Fachkraft der Frühen Hilfen leitet das Treffen und beantwortet Ihre Fragen. \nSie sind herzlich eingeladen! Wir freuen uns auf Sie und Ihr Baby! \nDas Angebot wird gefördert durch den Kreis Segeberg.
URL:https://tausendfuessler-stiftung.de/veranstaltungen/eltern-babytreff/2026-04-09/
LOCATION:Familienzentrum im Mehrgenerationenhaus
ATTACH;FMTTYPE=image/jpeg:https://tausendfuessler-stiftung.de/wp-content/uploads/2023/05/Website_Header_1200x630-4.jpg
END:VEVENT
BEGIN:VEVENT
DTSTART;TZID=Europe/Paris:20260402T110000
DTEND;TZID=Europe/Paris:20260402T120000
DTSTAMP:20260421T172810
CREATED:20260303T093545Z
LAST-MODIFIED:20260303T093545Z
UID:46452-1775127600-1775131200@tausendfuessler-stiftung.de
SUMMARY:Eltern- & Babytreff
DESCRIPTION:Alles rund ums erste Lebenjahr\nUnser Eltern- & Babytreff bietet Müttern und Vätern einen geschützten Raum\, um sich auszutauschen\, Unterstützung zu erhalten und Sicherheit im Alltag mit ihrem Baby zu gewinnen. Der Fokus liegt auf der sensiblen Zeit nach der Geburt – einer Phase voller neuer Eindrücke\, Fragen und Herausforderungen. \n\nWorum geht es im Eltern- & Babytreff?\nDer wöchentliche Austausch unterstützt Eltern dabei\, ihr Baby in seinem ersten Lebensjahr liebevoll zu begleiten. Im Mittelpunkt stehen: \n\nEin geschützter Rahmen für Austausch\, Beratung und Orientierung\nUnterstützung in einer sensiblen Lebensphase nach der Geburt\nFachliche Begleitung durch eine erfahrene Expertin der Frühen Hilfen\nTagesstruktur mit Baby: Routinen finden und den Familienalltag erleichtern\nErnährung\, Pflege & Entwicklung: Antworten auf die häufigsten Elternfragen\nGesundheitsaufklärung & Prävention: frühzeitig Sicherheit gewinnen\nEltern-Kind-Bindung stärken: Nähe schaffen und Vertrauen aufbauen\nAustausch zu Herausforderungen im ersten Lebensjahr: Von Schlaf über Stillen bis zu Meilensteinen\n\nDieses Angebot richtet sich an Eltern\, die sich einen Ort wünschen\, an dem sie fachlich begleitet\, verständnisvoll unterstützt und gemeinschaftlich gestärkt werden. \n\nSandra Moroz\, Familien-\, Gesundheits- und Kinderkrankenpflegerin\, Still- und Laktationsexpertin sowie unsere Fachkraft der Frühen Hilfen leitet das Treffen und beantwortet Ihre Fragen. \nSie sind herzlich eingeladen! Wir freuen uns auf Sie und Ihr Baby! \nDas Angebot wird gefördert durch den Kreis Segeberg.
URL:https://tausendfuessler-stiftung.de/veranstaltungen/eltern-babytreff/2026-04-02/
LOCATION:Familienzentrum im Mehrgenerationenhaus
ATTACH;FMTTYPE=image/jpeg:https://tausendfuessler-stiftung.de/wp-content/uploads/2023/05/Website_Header_1200x630-4.jpg
END:VEVENT
BEGIN:VEVENT
DTSTART;TZID=Europe/Paris:20260326T110000
DTEND;TZID=Europe/Paris:20260326T120000
DTSTAMP:20260421T172810
CREATED:20260303T093545Z
LAST-MODIFIED:20260303T093545Z
UID:46451-1774522800-1774526400@tausendfuessler-stiftung.de
SUMMARY:Eltern- & Babytreff
DESCRIPTION:Alles rund ums erste Lebenjahr\nUnser Eltern- & Babytreff bietet Müttern und Vätern einen geschützten Raum\, um sich auszutauschen\, Unterstützung zu erhalten und Sicherheit im Alltag mit ihrem Baby zu gewinnen. Der Fokus liegt auf der sensiblen Zeit nach der Geburt – einer Phase voller neuer Eindrücke\, Fragen und Herausforderungen. \n\nWorum geht es im Eltern- & Babytreff?\nDer wöchentliche Austausch unterstützt Eltern dabei\, ihr Baby in seinem ersten Lebensjahr liebevoll zu begleiten. Im Mittelpunkt stehen: \n\nEin geschützter Rahmen für Austausch\, Beratung und Orientierung\nUnterstützung in einer sensiblen Lebensphase nach der Geburt\nFachliche Begleitung durch eine erfahrene Expertin der Frühen Hilfen\nTagesstruktur mit Baby: Routinen finden und den Familienalltag erleichtern\nErnährung\, Pflege & Entwicklung: Antworten auf die häufigsten Elternfragen\nGesundheitsaufklärung & Prävention: frühzeitig Sicherheit gewinnen\nEltern-Kind-Bindung stärken: Nähe schaffen und Vertrauen aufbauen\nAustausch zu Herausforderungen im ersten Lebensjahr: Von Schlaf über Stillen bis zu Meilensteinen\n\nDieses Angebot richtet sich an Eltern\, die sich einen Ort wünschen\, an dem sie fachlich begleitet\, verständnisvoll unterstützt und gemeinschaftlich gestärkt werden. \n\nSandra Moroz\, Familien-\, Gesundheits- und Kinderkrankenpflegerin\, Still- und Laktationsexpertin sowie unsere Fachkraft der Frühen Hilfen leitet das Treffen und beantwortet Ihre Fragen. \nSie sind herzlich eingeladen! Wir freuen uns auf Sie und Ihr Baby! \nDas Angebot wird gefördert durch den Kreis Segeberg.
URL:https://tausendfuessler-stiftung.de/veranstaltungen/eltern-babytreff/2026-03-26/
LOCATION:Familienzentrum im Mehrgenerationenhaus
ATTACH;FMTTYPE=image/jpeg:https://tausendfuessler-stiftung.de/wp-content/uploads/2023/05/Website_Header_1200x630-4.jpg
END:VEVENT
BEGIN:VEVENT
DTSTART;TZID=Europe/Paris:20260319T110000
DTEND;TZID=Europe/Paris:20260319T120000
DTSTAMP:20260421T172810
CREATED:20260303T093545Z
LAST-MODIFIED:20260303T093545Z
UID:46449-1773918000-1773921600@tausendfuessler-stiftung.de
SUMMARY:Eltern- & Babytreff
DESCRIPTION:Alles rund ums erste Lebenjahr\nUnser Eltern- & Babytreff bietet Müttern und Vätern einen geschützten Raum\, um sich auszutauschen\, Unterstützung zu erhalten und Sicherheit im Alltag mit ihrem Baby zu gewinnen. Der Fokus liegt auf der sensiblen Zeit nach der Geburt – einer Phase voller neuer Eindrücke\, Fragen und Herausforderungen. \n\nWorum geht es im Eltern- & Babytreff?\nDer wöchentliche Austausch unterstützt Eltern dabei\, ihr Baby in seinem ersten Lebensjahr liebevoll zu begleiten. Im Mittelpunkt stehen: \n\nEin geschützter Rahmen für Austausch\, Beratung und Orientierung\nUnterstützung in einer sensiblen Lebensphase nach der Geburt\nFachliche Begleitung durch eine erfahrene Expertin der Frühen Hilfen\nTagesstruktur mit Baby: Routinen finden und den Familienalltag erleichtern\nErnährung\, Pflege & Entwicklung: Antworten auf die häufigsten Elternfragen\nGesundheitsaufklärung & Prävention: frühzeitig Sicherheit gewinnen\nEltern-Kind-Bindung stärken: Nähe schaffen und Vertrauen aufbauen\nAustausch zu Herausforderungen im ersten Lebensjahr: Von Schlaf über Stillen bis zu Meilensteinen\n\nDieses Angebot richtet sich an Eltern\, die sich einen Ort wünschen\, an dem sie fachlich begleitet\, verständnisvoll unterstützt und gemeinschaftlich gestärkt werden. \n\nSandra Moroz\, Familien-\, Gesundheits- und Kinderkrankenpflegerin\, Still- und Laktationsexpertin sowie unsere Fachkraft der Frühen Hilfen leitet das Treffen und beantwortet Ihre Fragen. \nSie sind herzlich eingeladen! Wir freuen uns auf Sie und Ihr Baby! \nDas Angebot wird gefördert durch den Kreis Segeberg.
URL:https://tausendfuessler-stiftung.de/veranstaltungen/eltern-babytreff/2026-03-19/
LOCATION:Familienzentrum im Mehrgenerationenhaus
ATTACH;FMTTYPE=image/jpeg:https://tausendfuessler-stiftung.de/wp-content/uploads/2023/05/Website_Header_1200x630-4.jpg
END:VEVENT
END:VCALENDAR